BEGIN:VCALENDAR
VERSION:2.0
PRODID:-//Chaddesley Corbett Parish Council - ECPv6.15.19//NONSGML v1.0//EN
CALSCALE:GREGORIAN
METHOD:PUBLISH
X-ORIGINAL-URL:https://www.chaddesleyparishcouncil.gov.uk
X-WR-CALDESC:Events for Chaddesley Corbett Parish Council
REFRESH-INTERVAL;VALUE=DURATION:PT1H
X-Robots-Tag:noindex
X-PUBLISHED-TTL:PT1H
BEGIN:VTIMEZONE
TZID:Europe/London
BEGIN:DAYLIGHT
TZOFFSETFROM:+0000
TZOFFSETTO:+0100
TZNAME:BST
DTSTART:20250330T010000
END:DAYLIGHT
BEGIN:STANDARD
TZOFFSETFROM:+0100
TZOFFSETTO:+0000
TZNAME:GMT
DTSTART:20251026T010000
END:STANDARD
BEGIN:DAYLIGHT
TZOFFSETFROM:+0000
TZOFFSETTO:+0100
TZNAME:BST
DTSTART:20260329T010000
END:DAYLIGHT
BEGIN:STANDARD
TZOFFSETFROM:+0100
TZOFFSETTO:+0000
TZNAME:GMT
DTSTART:20261025T010000
END:STANDARD
BEGIN:DAYLIGHT
TZOFFSETFROM:+0000
TZOFFSETTO:+0100
TZNAME:BST
DTSTART:20270328T010000
END:DAYLIGHT
BEGIN:STANDARD
TZOFFSETFROM:+0100
TZOFFSETTO:+0000
TZNAME:GMT
DTSTART:20271031T010000
END:STANDARD
END:VTIMEZONE
BEGIN:VEVENT
DTSTART;TZID=Europe/London:20260218T193000
DTEND;TZID=Europe/London:20260218T213000
DTSTAMP:20260420T013908
CREATED:20260107T113747Z
LAST-MODIFIED:20260107T113747Z
UID:7533-1771443000-1771450200@www.chaddesleyparishcouncil.gov.uk
SUMMARY:Chaddesley Corbett Local History Society  Wednesday February 18th 7.30pm
DESCRIPTION:Chaddesley Corbett Local History Society \n  \nWednesday February 18th 7.30pm \nHeather Flack \nCrossing the Severn – the bridges\, fords and ferries over the River Severn in Worcestershire \nTelford’s Bridge Bewdley. \nThe River Severn is famous for its limited number of crossings. But was this always the case? There are many lost fords and ferries\, and a few lost bridges too; which used to keep communities together and foster commercial and social interaction. This talk will inspire you to explore afresh the local footpaths which trace our local river and you too will notice these old crossings and some of the features that identify where they are to be found. Heather has lived in\, explored and researched the area for many years and has created this talk from her own experiences. \n  \nEveryone is welcome\, including visitors @£5 paid on the door \n  \nTalks held in Chaddesley Corbett Village Hall \nDY10 4QA \nEnquiries to Freda Griffith 07747618487 fred@fredagriffith.co.uk \n  \n  \nThe next meeting will be: March 18th Richard Churchley with his talk “Off to the workhouse”: the poor are always with us \nChaddesley Corbett Local History Society \n  \n1 Crossing Severn Flack \n 
URL:https://www.chaddesleyparishcouncil.gov.uk/event/chaddesley-corbett-local-history-society-wednesday-february-18th-7-30pm/
END:VEVENT
BEGIN:VEVENT
DTSTART;TZID=Europe/London:20260318T193000
DTEND;TZID=Europe/London:20260318T213000
DTSTAMP:20260420T013908
CREATED:20260107T114106Z
LAST-MODIFIED:20260107T114106Z
UID:7541-1773862200-1773869400@www.chaddesleyparishcouncil.gov.uk
SUMMARY:March 18th Chaddesley Corbett History Society
DESCRIPTION:March 18th “Off to the workhouse”: the poor are always with us\, Richard Churchley (including AGM)
URL:https://www.chaddesleyparishcouncil.gov.uk/event/march-18th-chaddesley-corbett-history-society/
END:VEVENT
BEGIN:VEVENT
DTSTART;TZID=Europe/London:20260413T073000
DTEND;TZID=Europe/London:20260413T073000
DTSTAMP:20260420T013908
CREATED:20260408T154150Z
LAST-MODIFIED:20260415T123548Z
UID:7757-1776065400-1776065400@www.chaddesleyparishcouncil.gov.uk
SUMMARY:Monday 13th April 2026
DESCRIPTION:Meetings are held in Chaddesley Corbett Village Hall. Members of the public are welcome to attend.
URL:https://www.chaddesleyparishcouncil.gov.uk/event/monday-13th-april-2026/
LOCATION:Chaddesley Corbett Village Hall\, Chaddesley Corbett Village Hall\, Chaddesley\, United Kingdom
CATEGORIES:Parish Council Meetings
ORGANIZER;CN="Chaddesley Corbett Parish Council":MAILTO:clerk@chaddesleyparishcouncil.gov.uk
END:VEVENT
BEGIN:VEVENT
DTSTART;TZID=Europe/London:20260415T193000
DTEND;TZID=Europe/London:20260415T210000
DTSTAMP:20260420T013908
CREATED:20260320T131630Z
LAST-MODIFIED:20260320T131630Z
UID:7701-1776281400-1776286800@www.chaddesleyparishcouncil.gov.uk
SUMMARY:Wednesday April 15th at 7.30pm - Chaddesley Corbett History Society
DESCRIPTION:3 Stourbridge Glassmakers Round (002)
URL:https://www.chaddesleyparishcouncil.gov.uk/event/wednesday-april-15th-at-7-30pm-chaddesley-corbett-history-society/
CATEGORIES:Parish Events
END:VEVENT
BEGIN:VEVENT
DTSTART;TZID=Europe/London:20260415T193000
DTEND;TZID=Europe/London:20260415T213000
DTSTAMP:20260420T013908
CREATED:20260107T114231Z
LAST-MODIFIED:20260107T114231Z
UID:7545-1776281400-1776288600@www.chaddesleyparishcouncil.gov.uk
SUMMARY:Chaddesley Corbett Local History Society
DESCRIPTION:April 15th \n\n\n\nStourbridge Glassmakers\, Dr Kate Round
URL:https://www.chaddesleyparishcouncil.gov.uk/event/chaddesley-corbett-local-history-society/
END:VEVENT
BEGIN:VEVENT
DTSTART;TZID=Europe/London:20260421T080000
DTEND;TZID=Europe/London:20260421T170000
DTSTAMP:20260420T013908
CREATED:20260323T100442Z
LAST-MODIFIED:20260323T113758Z
UID:7708-1776758400-1776790800@www.chaddesleyparishcouncil.gov.uk
SUMMARY:Tuesday 21st April - 7pm - Community Orchard committee / working party.
DESCRIPTION:  \n@ Tuesday 21st April – 7pm \n(can’t make this time? don’t worry pop along when you can) \nIN: The Swan\, Chaddesley Corbett \nCommunity Orchard committee/working party.\nCome and have your say\, get involved\, enjoy the company\, find out more…\ninformal\, no obligations\, improve the village you valueTuesday 21st April meeting poster
URL:https://www.chaddesleyparishcouncil.gov.uk/event/tuesday-21st-april-7pm-community-orchard-committee-working-party/
CATEGORIES:Parish Events
END:VEVENT
BEGIN:VEVENT
DTSTART;TZID=Europe/London:20260515T193000
DTEND;TZID=Europe/London:20260515T193000
DTSTAMP:20260420T013908
CREATED:20260107T114354Z
LAST-MODIFIED:20260107T114354Z
UID:7548-1778873400-1778873400@www.chaddesleyparishcouncil.gov.uk
SUMMARY:Chaddesley Corbett Local History Society
DESCRIPTION:May 15th – Family History (making a start and filling in the gaps for the experienced) Vanessa Morgan
URL:https://www.chaddesleyparishcouncil.gov.uk/event/chaddesley-corbett-local-history-society-2/
END:VEVENT
BEGIN:VEVENT
DTSTART;TZID=Europe/London:20260613T100000
DTEND;TZID=Europe/London:20260613T160000
DTSTAMP:20260420T013908
CREATED:20260323T113938Z
LAST-MODIFIED:20260323T113938Z
UID:7712-1781344800-1781366400@www.chaddesleyparishcouncil.gov.uk
SUMMARY:History Fair On Saturday 13th June 2026 10am – 4pm - Chaddesley Corbett History Society
DESCRIPTION:hist fair poster portrait 2026
URL:https://www.chaddesleyparishcouncil.gov.uk/event/history-fair-on-saturday-13th-june-2026-10am-4pm-chaddesley-corbett-history-society/
END:VEVENT
BEGIN:VEVENT
DTSTART;TZID=Europe/London:20260916T193000
DTEND;TZID=Europe/London:20260916T213000
DTSTAMP:20260420T013908
CREATED:20260107T114509Z
LAST-MODIFIED:20260107T114509Z
UID:7551-1789587000-1789594200@www.chaddesleyparishcouncil.gov.uk
SUMMARY:Chaddesley Corbett Local History Society
DESCRIPTION:September 16th – Police Files – Les King a retired police officer on some of the most tragic local cases\, including Carl Bridgewater and Lesley Whittle.
URL:https://www.chaddesleyparishcouncil.gov.uk/event/chaddesley-corbett-local-history-society-3/
END:VEVENT
BEGIN:VEVENT
DTSTART;TZID=Europe/London:20261021T193000
DTEND;TZID=Europe/London:20261021T213000
DTSTAMP:20260420T013908
CREATED:20260107T114637Z
LAST-MODIFIED:20260107T114637Z
UID:7554-1792611000-1792618200@www.chaddesleyparishcouncil.gov.uk
SUMMARY:Chaddesley Corbett Local History Society
DESCRIPTION:October 21st – The Shazam! Show – Cinematic history\, Rob Hemming
URL:https://www.chaddesleyparishcouncil.gov.uk/event/chaddesley-corbett-local-history-society-4/
END:VEVENT
BEGIN:VEVENT
DTSTART;TZID=Europe/London:20261118T193000
DTEND;TZID=Europe/London:20261118T213000
DTSTAMP:20260420T013908
CREATED:20260107T114802Z
LAST-MODIFIED:20260107T114802Z
UID:7557-1795030200-1795037400@www.chaddesleyparishcouncil.gov.uk
SUMMARY:Chaddesley Corbett Local History Society
DESCRIPTION:November 18th – \n\n\n\nA history of St Helen’s Worcester\, one of the oldest religious sites in the city\, Heather Rendall
URL:https://www.chaddesleyparishcouncil.gov.uk/event/chaddesley-corbett-local-history-society-5/
END:VEVENT
END:VCALENDAR