BEGIN:VCALENDAR
VERSION:2.0
PRODID:-//Chaddesley Corbett Parish Council - ECPv6.15.19//NONSGML v1.0//EN
CALSCALE:GREGORIAN
METHOD:PUBLISH
X-WR-CALNAME:Chaddesley Corbett Parish Council
X-ORIGINAL-URL:https://www.chaddesleyparishcouncil.gov.uk
X-WR-CALDESC:Events for Chaddesley Corbett Parish Council
REFRESH-INTERVAL;VALUE=DURATION:PT1H
X-Robots-Tag:noindex
X-PUBLISHED-TTL:PT1H
BEGIN:VTIMEZONE
TZID:Europe/London
BEGIN:DAYLIGHT
TZOFFSETFROM:+0000
TZOFFSETTO:+0100
TZNAME:BST
DTSTART:20220327T010000
END:DAYLIGHT
BEGIN:STANDARD
TZOFFSETFROM:+0100
TZOFFSETTO:+0000
TZNAME:GMT
DTSTART:20221030T010000
END:STANDARD
BEGIN:DAYLIGHT
TZOFFSETFROM:+0000
TZOFFSETTO:+0100
TZNAME:BST
DTSTART:20230326T010000
END:DAYLIGHT
BEGIN:STANDARD
TZOFFSETFROM:+0100
TZOFFSETTO:+0000
TZNAME:GMT
DTSTART:20231029T010000
END:STANDARD
BEGIN:DAYLIGHT
TZOFFSETFROM:+0000
TZOFFSETTO:+0100
TZNAME:BST
DTSTART:20240331T010000
END:DAYLIGHT
BEGIN:STANDARD
TZOFFSETFROM:+0100
TZOFFSETTO:+0000
TZNAME:GMT
DTSTART:20241027T010000
END:STANDARD
BEGIN:DAYLIGHT
TZOFFSETFROM:+0000
TZOFFSETTO:+0100
TZNAME:BST
DTSTART:20250330T010000
END:DAYLIGHT
BEGIN:STANDARD
TZOFFSETFROM:+0100
TZOFFSETTO:+0000
TZNAME:GMT
DTSTART:20251026T010000
END:STANDARD
END:VTIMEZONE
BEGIN:VEVENT
DTSTART;TZID=Europe/London:20240419T110000
DTEND;TZID=Europe/London:20240419T123000
DTSTAMP:20260419T170206
CREATED:20240311T095900Z
LAST-MODIFIED:20240311T100142Z
UID:5876-1713524400-1713529800@www.chaddesleyparishcouncil.gov.uk
SUMMARY:Care Cafe - Living Well For Longer
DESCRIPTION:Blue Modern Business Solution A4 Flyer10391 (002)
URL:https://www.chaddesleyparishcouncil.gov.uk/event/care-cafe-living-well-for-longer/
LOCATION:Chaddesley Corbett Village Hall\, Chaddesley Corbett Village Hall\, Chaddesley\, United Kingdom
CATEGORIES:Parish Events
END:VEVENT
BEGIN:VEVENT
DTSTART;TZID=Europe/London:20240417T000000
DTEND;TZID=Europe/London:20240417T000000
DTSTAMP:20260419T170206
CREATED:20231017T091404Z
LAST-MODIFIED:20231017T091404Z
UID:5389-1713312000-1713312000@www.chaddesleyparishcouncil.gov.uk
SUMMARY:Wednesday 17th April 2024 - Philip Bowen The ‘Earls’ of Dudley
DESCRIPTION:April 17th Philip Bowen \nThe ‘Earls’ of Dudley
URL:https://www.chaddesleyparishcouncil.gov.uk/event/wednesday-17th-april-2024-philip-bowen-the-earls-of-dudley/
LOCATION:Chaddesley Corbett Village Hall\, Chaddesley Corbett Village Hall\, Chaddesley\, United Kingdom
END:VEVENT
BEGIN:VEVENT
DTSTART;TZID=Europe/London:20240410T140000
DTEND;TZID=Europe/London:20240410T153000
DTSTAMP:20260419T170206
CREATED:20240311T100111Z
LAST-MODIFIED:20240311T100124Z
UID:5880-1712757600-1712763000@www.chaddesleyparishcouncil.gov.uk
SUMMARY:Chaddesley Corbett - Care Cafe
DESCRIPTION:Care Cafe Poster-April
URL:https://www.chaddesleyparishcouncil.gov.uk/event/chaddesley-corbett-care-cafe/
LOCATION:Chaddesley Corbett Village Hall\, Chaddesley Corbett Village Hall\, Chaddesley\, United Kingdom
CATEGORIES:Parish Events
END:VEVENT
BEGIN:VEVENT
DTSTART;TZID=Europe/London:20240320T000000
DTEND;TZID=Europe/London:20240320T000000
DTSTAMP:20260419T170206
CREATED:20231017T091227Z
LAST-MODIFIED:20231017T091227Z
UID:5386-1710892800-1710892800@www.chaddesleyparishcouncil.gov.uk
SUMMARY:Wednesday 20th March 2024 - Tim Bridges   Victorian and Edwardian Buildings of the Midlands
DESCRIPTION:March 20th Tim Bridges \nVictorian and Edwardian Buildings of the Midlands
URL:https://www.chaddesleyparishcouncil.gov.uk/event/wednesday-20th-march-2024-tim-bridges-victorian-and-edwardian-buildings-of-the-midlands/
LOCATION:Chaddesley Corbett Village Hall\, Chaddesley Corbett Village Hall\, Chaddesley\, United Kingdom
END:VEVENT
BEGIN:VEVENT
DTSTART;TZID=Europe/London:20240314T100000
DTEND;TZID=Europe/London:20240314T120000
DTSTAMP:20260419T170206
CREATED:20240122T133633Z
LAST-MODIFIED:20240122T133633Z
UID:5706-1710410400-1710417600@www.chaddesleyparishcouncil.gov.uk
SUMMARY:New Stourport Creative Arts Group
DESCRIPTION:The Coach House\, Ravenhurst\, Sanctuary Care\, Stourport on Severn\, DY10 8RU \nSCASG Poster
URL:https://www.chaddesleyparishcouncil.gov.uk/event/new-stourport-creative-arts-group/
CATEGORIES:Outside Parish Events
END:VEVENT
BEGIN:VEVENT
DTSTART;TZID=Europe/London:20240304T073000
DTEND;TZID=Europe/London:20240304T073000
DTSTAMP:20260419T170206
CREATED:20260408T145455Z
LAST-MODIFIED:20260408T145455Z
UID:7746-1709537400-1709537400@www.chaddesleyparishcouncil.gov.uk
SUMMARY:Monday 4th March 2024
DESCRIPTION:Meetings are held in Chaddesley Corbett Village Hall. Members of the public are welcome to attend.
URL:https://www.chaddesleyparishcouncil.gov.uk/event/monday-4th-march-2024/
LOCATION:Chaddesley Corbett Village Hall\, Chaddesley Corbett Village Hall\, Chaddesley\, United Kingdom
CATEGORIES:Parish Council Meetings
ORGANIZER;CN="Chaddesley Corbett Parish Council":MAILTO:clerk@chaddesleyparishcouncil.gov.uk
END:VEVENT
BEGIN:VEVENT
DTSTART;TZID=Europe/London:20240221T193000
DTEND;TZID=Europe/London:20240221T193000
DTSTAMP:20260419T170206
CREATED:20231017T090923Z
LAST-MODIFIED:20240208T200540Z
UID:5383-1708543800-1708543800@www.chaddesleyparishcouncil.gov.uk
SUMMARY:Wednesday 21st February 2024 - John Price   The Monarch’s Way - The escape of Charles II after the battle of Worcester
DESCRIPTION:1 Monarchs Way February 2024Wednesday 21st February 2024 – John Price The Monarch’s Way – The escape of Charles II after the battle of Worcester \n  \nChaddesley Corbett Local History Society \n  \nWednesday February 21st   7.30pm   \n  \nJohn Price \nwill speak on \nThe Monarch’s Way – \nThe escape of Charles II after the Battle of Worcester \nPowick Bridge\, Where the Monarch’s Way begins. \nThe 625 miles of the Monarch’s Way links various towns\, villages\, country houses and inns associated with the then future King Charles II’s escape from Worcester in 1651. The route uses rights-of-way (sometimes sharing other national routes like The Cotswold Way) This long-distance path is the longest way-marked inland walk in the UK and it passes through Chaddesley Corbett as it goes north and then it’s southern section is though Dodford. \nJohn Price has extensive knowledge about the passage of the prince\, soon to be King Charles II and this historic path. He is mentioned in The Daily Telegraph “In the footsteps of a king: walking the Monarch’s Way”. \nYou will recognise so many local places in this talk and learn something new at each turn. \nIt is planned that a History Society Summer Walk 2024 will in part follow the section of the Monarch’s Way that crosses our parish. You too can follow the footsteps of a king who regained his throne. \n  \n  \n  \nTalks held in Chaddesley Corbett Village Hall \nDY10 4QA \nEnquiries to Freda Griffith 07747618487 \nEmail – fred@fredagriffith.co.uk \nVisitors are always welcome@£5 paid on the door. \nFIND US ON FACEBOOK Chaddesley Corbett Local History Society \nFor further updates and to post interesting history notes or enquiries \n  \nThe next meeting will be March 20th Tim Bridges \nVictorian and Edwardian Buildings of the Midlands \n 
URL:https://www.chaddesleyparishcouncil.gov.uk/event/wednesday-21st-february-2024-john-price-the-monarchs-way-the-escape-of-charles-ii-after-the-battle-of-worcester/
LOCATION:Chaddesley Corbett Village Hall\, Chaddesley Corbett Village Hall\, Chaddesley\, United Kingdom
END:VEVENT
BEGIN:VEVENT
DTSTART;TZID=Europe/London:20240205T073000
DTEND;TZID=Europe/London:20240205T073000
DTSTAMP:20260419T170206
CREATED:20240129T142326Z
LAST-MODIFIED:20240208T212843Z
UID:5729-1707118200-1707118200@www.chaddesleyparishcouncil.gov.uk
SUMMARY:Monday 5th February 2024
DESCRIPTION:Meetings are held in Chaddesley Corbett Village Hall. Members of the public are welcome to attend.
URL:https://www.chaddesleyparishcouncil.gov.uk/event/monday-5th-february-2024/
LOCATION:Chaddesley Corbett Village Hall\, Chaddesley Corbett Village Hall\, Chaddesley\, United Kingdom
CATEGORIES:Parish Council Meetings
ORGANIZER;CN="Chaddesley Corbett Parish Council":MAILTO:clerk@chaddesleyparishcouncil.gov.uk
END:VEVENT
BEGIN:VEVENT
DTSTART;TZID=Europe/London:20231215T193000
DTEND;TZID=Europe/London:20231215T193000
DTSTAMP:20260419T170206
CREATED:20231120T131047Z
LAST-MODIFIED:20231120T131233Z
UID:5528-1702668600-1702668600@www.chaddesleyparishcouncil.gov.uk
SUMMARY:Movies at Chaddesley - The Quiet Girl - Friday 15th December 2023
DESCRIPTION:  \n\n\n\n\n\n\n\n\n\n\n\n\nMovies at Chaddesley\n  \nThe Quiet Girl\non \nFriday 15th December \nbased on the novel\, Foster\, by Claire Keegan \nTreat yourself and a friend to this heart-warming film\, with a glass of wine\, some special festive snacks and the usual luxury ice-cream.\n  \nClick here to watch the trailer\nTickets go on sale on Wednesday 15th November\nPlease note that it is NOT possible to buy tickets on the door.\nPlease buy your tickets in advance.   \nThe MAC Committee\n\n\n\n\n\n\n\n\n\n\n\n\n\n\n\n\n\n\n\n\n\n\n\n\n\n\nVENUE: Chaddesley Corbett Village Hall\, DY10 4QA\nDoors open at 7pm. Film starts at 7.30pm.\nHearing loop available\n(Whenever possible\, our films show English sub-titles so we all hear better!)BUY YOUR TICKETS from our lovely village retailers: \nTHE FLOWER ROOM  \nTHE VILLAGE BUTCHER  \nTICKET PRICE: £10 which includes an excellent glass of wine and your favourite luxury ice-cream.\nUnreserved seats – choose where you sit.\nTickets are not refundable.\nPLEASE NOTE: TICKETS GO ON SALE EXACTLY ONE MONTH BEFORE EACH SCREENING DATE  (don’t delay as tickets usually sell quickly) \nIF YOU NO LONGER WISH TO RECEIVE MONTHLY FILM INFORMATION FROM MAC\, PLEASE EMAIL: moviesatchaddesley@gmail.com and we will remove your name from our mailing list. The mailing list details are not used for marketing purposes or shared with third parties. \n\n\n\n\n\n\n\n\n\n\n\n\n\n\n\n\n\n\n\n\n\n\n\n\n\n\n\n\n\n\n\n\n\n\n\n\n\n\n\n\n\n\n\n\n\n\n\n\n\n\n\n\n\n\n\n\n\n\n\n\n\n\n\n\n\n\n\n\n\n\n\n\n\n\n\n\n\n\n  \n\n\n\n\n\n\n\n\n\n\n\n\n\n\n\n  \n\n\n\n\n\n\n\n\n\n\n\nCopyright © 2023 Movies at Chaddesley\, All rights reserved.\nYou are receiving this email because you are on our tickets mailing listOur mailing address is: \nMovies at Chaddesley \nTanwood Green \nTanwood Lane \nChaddesley Corbett\, WorcsDY104NT \nUnited Kingdom \nAdd us to your address book \nWant to change how you receive these emails?\nYou can update your preferences or unsubscribe from this list.\n\n\n\n\n\n\n\n\n\n\n\n  \n\n\n\n\n\n\n\n\n\n\n\n\n\n\n\n\n\n\n\n\n\n\n\n\n\n\n\n\n\n\n\n\n\n\n\n\n\n\n\n\n\n\n\n\n\n\n\n\n\n\n\n\n\n\n\n\n\n\n\n\n\n\n\n 
URL:https://www.chaddesleyparishcouncil.gov.uk/event/movies-at-chaddesley-the-quiet-girl-friday-15th-december-2023/
LOCATION:Chaddesley Corbett Village Hall\, Chaddesley Corbett Village Hall\, Chaddesley\, United Kingdom
END:VEVENT
BEGIN:VEVENT
DTSTART;TZID=Europe/London:20231204T190000
DTEND;TZID=Europe/London:20231204T190000
DTSTAMP:20260419T170206
CREATED:20231128T104748Z
LAST-MODIFIED:20231208T102003Z
UID:5546-1701716400-1701716400@www.chaddesleyparishcouncil.gov.uk
SUMMARY:Parish Council Meeting - Monday 4th December 2023
DESCRIPTION:Meetings are held in Chaddesley Corbett Village Hall. Members of the public are welcome to attend.
URL:https://www.chaddesleyparishcouncil.gov.uk/event/parish-council-meeting-monday-4th-december-2023/
LOCATION:Chaddesley Corbett Village Hall\, Chaddesley Corbett Village Hall\, Chaddesley\, United Kingdom
CATEGORIES:Parish Council Meetings
ORGANIZER;CN="Chaddesley Corbett Parish Council":MAILTO:clerk@chaddesleyparishcouncil.gov.uk
END:VEVENT
BEGIN:VEVENT
DTSTART;TZID=Europe/London:20231121T143000
DTEND;TZID=Europe/London:20231121T143000
DTSTAMP:20260419T170206
CREATED:20231023T152600Z
LAST-MODIFIED:20231120T131641Z
UID:5432-1700577000-1700577000@www.chaddesleyparishcouncil.gov.uk
SUMMARY:Movies at Chaddesley - Where the Crawdads Sing
DESCRIPTION:MAC23 CRAWDADS poster
URL:https://www.chaddesleyparishcouncil.gov.uk/event/movies-at-chaddesley-where-the-crawdads-sing/
LOCATION:Chaddesley Corbett Village Hall\, Chaddesley Corbett Village Hall\, Chaddesley\, United Kingdom
CATEGORIES:Parish Events
END:VEVENT
BEGIN:VEVENT
DTSTART;TZID=Europe/London:20231115T193000
DTEND;TZID=Europe/London:20231115T193000
DTSTAMP:20260419T170206
CREATED:20231010T101824Z
LAST-MODIFIED:20231010T102955Z
UID:5366-1700076600-1700076600@www.chaddesleyparishcouncil.gov.uk
SUMMARY:Chaddesley Corbett Local History Society - Wednesday November 15th  7.30pm 
DESCRIPTION:7 Churchley Christmas songs 2023\n  \nChristmas Songs Through the Ages: from Boars Head to bing Crosby  \nby Richard Churchley \nIn this presentation Richard discusses and performs festive songs from the mediaeval Boar’s Head Carol through to White Christmas. Richard\, a historian\, and musician\, sings and plays Christmas songs and tunes and explains their historical context. Audience participation will be encouraged. \nTalks held in Chaddesley Corbett Village Hall \nDY10 4QA \nEnquiries to Freda Griffith 07747618487 \nEmail – fred@fredagriffith.co.uk \nVisitors are always welcome@£5 paid on the door. \nFIND US ON FACEBOOK Chaddesley Corbett Local History Society \nWatch on You Tube/Zoom – Members unable to attend the meeting in person can watch online as a recording afterwards to members who request a link. \n  \nThe next meeting will be February 21th \nThe Monarch’s Way. \nThe escape of Charles II after the battle of Worcester \nBy John Price
URL:https://www.chaddesleyparishcouncil.gov.uk/event/chaddesley-corbett-local-history-society-wednesday-november-15th-7-30pm/
LOCATION:Chaddesley Corbett Village Hall\, Chaddesley Corbett Village Hall\, Chaddesley\, United Kingdom
CATEGORIES:Parish Events
END:VEVENT
BEGIN:VEVENT
DTSTART;TZID=Europe/London:20231110T190000
DTEND;TZID=Europe/London:20231110T190000
DTSTAMP:20260419T170206
CREATED:20231013T105232Z
LAST-MODIFIED:20231013T115510Z
UID:5378-1699642800-1699642800@www.chaddesleyparishcouncil.gov.uk
SUMMARY:Movies at Chaddesley - Friday 10th November 2023
DESCRIPTION:november showing
URL:https://www.chaddesleyparishcouncil.gov.uk/event/movies-at-chaddesley-friday-10th-november-2023/
LOCATION:Chaddesley Corbett Village Hall\, Chaddesley Corbett Village Hall\, Chaddesley\, United Kingdom
CATEGORIES:Parish Events
END:VEVENT
BEGIN:VEVENT
DTSTART;TZID=Europe/London:20231110T080000
DTEND;TZID=Europe/London:20231110T170000
DTSTAMP:20260419T170206
CREATED:20231023T152834Z
LAST-MODIFIED:20231023T152834Z
UID:5437-1699603200-1699635600@www.chaddesleyparishcouncil.gov.uk
SUMMARY:Movies at Chaddesley - The Outfit
DESCRIPTION:MAC23 OUTFIT poster
URL:https://www.chaddesleyparishcouncil.gov.uk/event/movies-at-chaddesley-the-outfit/
LOCATION:Chaddesley Corbett Village Hall\, Chaddesley Corbett Village Hall\, Chaddesley\, United Kingdom
CATEGORIES:Parish Events
END:VEVENT
BEGIN:VEVENT
DTSTART;TZID=Europe/London:20231106T073000
DTEND;TZID=Europe/London:20231106T073000
DTSTAMP:20260419T170206
CREATED:20231031T145810Z
LAST-MODIFIED:20231128T133857Z
UID:5451-1699255800-1699255800@www.chaddesleyparishcouncil.gov.uk
SUMMARY:Monday 6th November 2023
DESCRIPTION:Meetings are held in Chaddesley Corbett Village Hall. Members of the public are welcome to attend.
URL:https://www.chaddesleyparishcouncil.gov.uk/event/monday-6th-november-2023/
LOCATION:Chaddesley Corbett Village Hall\, Chaddesley Corbett Village Hall\, Chaddesley\, United Kingdom
CATEGORIES:Parish Council Meetings
ORGANIZER;CN="Chaddesley Corbett Parish Council":MAILTO:clerk@chaddesleyparishcouncil.gov.uk
END:VEVENT
BEGIN:VEVENT
DTSTART;TZID=Europe/London:20231018T193000
DTEND;TZID=Europe/London:20231018T193000
DTSTAMP:20260419T170206
CREATED:20231010T101330Z
LAST-MODIFIED:20231010T131348Z
UID:5361-1697657400-1697657400@www.chaddesleyparishcouncil.gov.uk
SUMMARY:Chaddesley Corbett Local History Society  - Wednesday October 18th  7.30pm
DESCRIPTION:Chaddesley Corbett Local History Society \n  \nWednesday October 18th  7.30pm   \n  \nPrince Rupert of the Rhine –  \nKing Charles I’s Pirate Prince  \nBy Max Keen \nPhoto courtesy of Colin Hill Photography chill73279@aol.com \nPrince Rupert\, a nephew to Charles 1st of England and was involved heavily with the Civil War. Having been \nbanished from England what did his life abroad hold\, and what influence did he have on the rule of Cromwell \nand the subsequent reinstatement of Royalty in the British Isles before his death in London in 1682 ? \nMax Keen uses multimedia\, costumes and artefacts to illustrate the story and can be contriversial to \nstimulate debate. Max has a certificate in Higher Education in British Archaeology\,  is a retired teacher and is \na popular local speaker so get there early to reserve your chair! \n  \nWatch on Zoom \nMembers unable to attend the meeting in person can watch it via Zoom. \nPlease request a link via email below. \n  \nTalks held in Chaddesley Corbett Village Hall \nDY10 4QA \nEnquiries to Freda Griffith 07747618487 \nEmail – fred@fredagriffith.co.uk \nVisitors are always welcome@£5 paid on the door. \nFIND US ON FACEBOOK Chaddesley Corbett Local History Society \nFor further updates and to post interesting history notes or enquiries \n  \nThe next meeting will be November 15th Christmas Songs Through the Ages: from Boars Head to bing Crosby by Richard Churchley \nWith festive refreshments! 6 Keen Prince Rupert 2023
URL:https://www.chaddesleyparishcouncil.gov.uk/event/chaddesley-corbett-local-history-society-wednesday-october-18th-7-30pm/
CATEGORIES:Parish Events
END:VEVENT
BEGIN:VEVENT
DTSTART;TZID=Europe/London:20231017T080000
DTEND;TZID=Europe/London:20231017T170000
DTSTAMP:20260419T170206
CREATED:20231017T091828Z
LAST-MODIFIED:20231017T091828Z
UID:5398-1697529600-1697562000@www.chaddesleyparishcouncil.gov.uk
SUMMARY:Wednesday 16th October 2024 - Anthony Poulton-Smith - The Salt Routes
DESCRIPTION:October 16th Anthony Poulton-Smith \nThe Salt Routes
URL:https://www.chaddesleyparishcouncil.gov.uk/event/wednesday-16th-october-2024-anthony-poulton-smith-the-salt-routes/
LOCATION:Chaddesley Corbett Village Hall\, Chaddesley Corbett Village Hall\, Chaddesley\, United Kingdom
END:VEVENT
BEGIN:VEVENT
DTSTART;TZID=Europe/London:20231011T140000
DTEND;TZID=Europe/London:20231011T150000
DTSTAMP:20260419T170206
CREATED:20230911T091205Z
LAST-MODIFIED:20230911T091205Z
UID:5251-1697032800-1697036400@www.chaddesleyparishcouncil.gov.uk
SUMMARY:Chaddesley Corbett Community Care Cafe
DESCRIPTION:Care Cafe Advert A5\nIn the Village Hall\nFor those living with dementia or other illnesses\nand their carers and those who would appreciate\nsome company for a while! \nTea and cakes will be served and you can\nmeet up with friends old and new and have a chinwag! \nEntertainment by\nDROITWICH SPA\nCOMMUNITY CHOIR \nFor more information\, please get in touch with: Diane Dolley: phone 777841; email: dianedolley@btinternet.com or Yvonne Scriven: 777976;\nemail: yvonnescriven821@gmail.com \nCafé run by Chaddesley Community Care – A Registered Charity No. 1186785
URL:https://www.chaddesleyparishcouncil.gov.uk/event/chaddesley-corbett-community-care-cafe/
LOCATION:Chaddesley Corbett Village Hall\, Chaddesley Corbett Village Hall\, Chaddesley\, United Kingdom
END:VEVENT
BEGIN:VEVENT
DTSTART;TZID=Europe/London:20231002T073000
DTEND;TZID=Europe/London:20231002T073000
DTSTAMP:20260419T170206
CREATED:20230927T084251Z
LAST-MODIFIED:20231031T150127Z
UID:5313-1696231800-1696231800@www.chaddesleyparishcouncil.gov.uk
SUMMARY:Parish Council Meeting Monday 2nd October 2023
DESCRIPTION:Meetings are held in Chaddesley Corbett Village Hall. Members of the public are welcome to attend.
URL:https://www.chaddesleyparishcouncil.gov.uk/event/parish-council-meeting-monday-2nd-october-2023/
LOCATION:Chaddesley Corbett Village Hall\, Chaddesley Corbett Village Hall\, Chaddesley\, United Kingdom
CATEGORIES:Parish Council Meetings
ORGANIZER;CN="Chaddesley Corbett Parish Council":MAILTO:clerk@chaddesleyparishcouncil.gov.uk
END:VEVENT
BEGIN:VEVENT
DTSTART;TZID=Europe/London:20230930T110000
DTEND;TZID=Europe/London:20230930T170000
DTSTAMP:20260419T170206
CREATED:20230919T133820Z
LAST-MODIFIED:20230919T133820Z
UID:5293-1696071600-1696093200@www.chaddesleyparishcouncil.gov.uk
SUMMARY:Apple Picking at Chaddesley Corbett Community Orchard
DESCRIPTION:Chaddesley Corbett Community Orchard \n  \nAPPLE PICKING \nSaturday 30th September\, \nSunday 8th October and \nSaturday October 14th from 11am \n  \nWould you like to help to pick\, pack or \nTransport to MILL ORCHARDS\, Great \nWitley who will juice and bottle it for us? \n  \nPlease contact Councillor Sue Smith on 700 057\, Yvonne Scriven on 777 976 or Diane Dolley on 777 841 for any suggestions or further information.
URL:https://www.chaddesleyparishcouncil.gov.uk/event/apple-picking-at-chaddesley-corbett-community-orchard/
END:VEVENT
BEGIN:VEVENT
DTSTART;TZID=Europe/London:20230929T073000
DTEND;TZID=Europe/London:20230929T073000
DTSTAMP:20260419T170206
CREATED:20230927T083738Z
LAST-MODIFIED:20231006T092254Z
UID:5306-1695972600-1695972600@www.chaddesleyparishcouncil.gov.uk
SUMMARY:Extraordinary Meeting - Friday 29th September 2023
DESCRIPTION:Meetings are held in Chaddesley Corbett Village Hall. Members of the public are welcome to attend.
URL:https://www.chaddesleyparishcouncil.gov.uk/event/extraordinary-meeting-friday-29th-september-2023/
LOCATION:Chaddesley Corbett Village Hall\, Chaddesley Corbett Village Hall\, Chaddesley\, United Kingdom
CATEGORIES:Parish Council Meetings
ORGANIZER;CN="Chaddesley Corbett Parish Council":MAILTO:clerk@chaddesleyparishcouncil.gov.uk
END:VEVENT
BEGIN:VEVENT
DTSTART;TZID=Europe/London:20230904T190000
DTEND;TZID=Europe/London:20230904T190000
DTSTAMP:20260419T170206
CREATED:20230826T133617Z
LAST-MODIFIED:20230908T104926Z
UID:5173-1693854000-1693854000@www.chaddesleyparishcouncil.gov.uk
SUMMARY:AGENDA - MONDAY 4TH SEPTEMBER 2023
DESCRIPTION:Meetings are held in Chaddesley Corbett Village Hall. Members of the public are welcome to attend.
URL:https://www.chaddesleyparishcouncil.gov.uk/event/agenda-monday-4th-september-2023/
LOCATION:Chaddesley Corbett Village Hall\, Chaddesley Corbett Village Hall\, Chaddesley\, United Kingdom
CATEGORIES:Parish Council Meetings
ORGANIZER;CN="Chaddesley Corbett Parish Council":MAILTO:clerk@chaddesleyparishcouncil.gov.uk
END:VEVENT
BEGIN:VEVENT
DTSTART;TZID=Europe/London:20230616T080000
DTEND;TZID=Europe/London:20230616T170000
DTSTAMP:20260419T170206
CREATED:20230616T121658Z
LAST-MODIFIED:20230616T121658Z
UID:4906-1686902400-1686934800@www.chaddesleyparishcouncil.gov.uk
SUMMARY:Our Wild Flower Survey Results
DESCRIPTION:Wildflower survey 5 June 2023Wildflower survey 5 June 2023
URL:https://www.chaddesleyparishcouncil.gov.uk/event/our-wild-flower-survey-results/
END:VEVENT
END:VCALENDAR